BEGIN:VCALENDAR
VERSION:2.0
PRODID:-//Independent Church of India - ECPv6.15.20//NONSGML v1.0//EN
CALSCALE:GREGORIAN
METHOD:PUBLISH
X-ORIGINAL-URL:https://www.ici.net.in
X-WR-CALDESC:Events for Independent Church of India
REFRESH-INTERVAL;VALUE=DURATION:PT1H
X-Robots-Tag:noindex
X-PUBLISHED-TTL:PT1H
BEGIN:VTIMEZONE
TZID:Asia/Kolkata
BEGIN:STANDARD
TZOFFSETFROM:+0530
TZOFFSETTO:+0530
TZNAME:IST
DTSTART:20250101T000000
END:STANDARD
END:VTIMEZONE
BEGIN:VEVENT
DTSTART;TZID=Asia/Kolkata:20260409T080000
DTEND;TZID=Asia/Kolkata:20260411T170000
DTSTAMP:20260422T043230
CREATED:20260327T081227Z
LAST-MODIFIED:20260327T081316Z
UID:3172-1775721600-1775926800@www.ici.net.in
SUMMARY:Finance Training 2026
DESCRIPTION:Finance Training for Presbytery Office Clerks\, Pro Pastors and Pastors
URL:https://www.ici.net.in/event/3172/
LOCATION:Sielmat Bible College\, Sielmat\, Churachandpur\, Manipur\, 795128\, India
ATTACH;FMTTYPE=image/jpeg:https://www.ici.net.in/wp-content/uploads/sbc-1.jpg
ORGANIZER;CN="Finance Department":MAILTO:finance@ici.net.in
END:VEVENT
END:VCALENDAR